BEGIN:VCALENDAR
VERSION:2.0
PRODID:-//Holyshelter - ECPv6.15.20//NONSGML v1.0//EN
CALSCALE:GREGORIAN
METHOD:PUBLISH
X-ORIGINAL-URL:https://holyshelter.com
X-WR-CALDESC:Events for Holyshelter
REFRESH-INTERVAL;VALUE=DURATION:PT1H
X-Robots-Tag:noindex
X-PUBLISHED-TTL:PT1H
BEGIN:VTIMEZONE
TZID:Europe/Helsinki
BEGIN:DAYLIGHT
TZOFFSETFROM:+0200
TZOFFSETTO:+0300
TZNAME:EEST
DTSTART:20250330T010000
END:DAYLIGHT
BEGIN:STANDARD
TZOFFSETFROM:+0300
TZOFFSETTO:+0200
TZNAME:EET
DTSTART:20251026T010000
END:STANDARD
BEGIN:DAYLIGHT
TZOFFSETFROM:+0200
TZOFFSETTO:+0300
TZNAME:EEST
DTSTART:20260329T010000
END:DAYLIGHT
BEGIN:STANDARD
TZOFFSETFROM:+0300
TZOFFSETTO:+0200
TZNAME:EET
DTSTART:20261025T010000
END:STANDARD
BEGIN:DAYLIGHT
TZOFFSETFROM:+0200
TZOFFSETTO:+0300
TZNAME:EEST
DTSTART:20270328T010000
END:DAYLIGHT
BEGIN:STANDARD
TZOFFSETFROM:+0300
TZOFFSETTO:+0200
TZNAME:EET
DTSTART:20271031T010000
END:STANDARD
END:VTIMEZONE
BEGIN:VEVENT
DTSTART;VALUE=DATE:20261002
DTEND;VALUE=DATE:20261003
DTSTAMP:20260422T004727
CREATED:20260420T125351Z
LAST-MODIFIED:20260420T125351Z
UID:155007-1790899200-1790985599@holyshelter.com
SUMMARY:Saint Cyprian and Justina
DESCRIPTION:Feast Day
URL:https://holyshelter.com/event/saint-cyprian-and-justina/
CATEGORIES:Feast Days
END:VEVENT
BEGIN:VEVENT
DTSTART;VALUE=DATE:20261004
DTEND;VALUE=DATE:20261005
DTSTAMP:20260422T004727
CREATED:20260420T130740Z
LAST-MODIFIED:20260420T130740Z
UID:155023-1791072000-1791158399@holyshelter.com
SUMMARY:Saint Francis of Assisi
DESCRIPTION:Feast Day
URL:https://holyshelter.com/event/saint-francis-of-assisi/
CATEGORIES:Feast Days
END:VEVENT
BEGIN:VEVENT
DTSTART;VALUE=DATE:20261007
DTEND;VALUE=DATE:20261008
DTSTAMP:20260422T004727
CREATED:20260420T130536Z
LAST-MODIFIED:20260420T130536Z
UID:155019-1791331200-1791417599@holyshelter.com
SUMMARY:Saint Sergios and Bacchus
DESCRIPTION:Feast Day
URL:https://holyshelter.com/event/saint-sergios-and-bacchus/
CATEGORIES:Feast Days
END:VEVENT
BEGIN:VEVENT
DTSTART;VALUE=DATE:20261020
DTEND;VALUE=DATE:20261021
DTSTAMP:20260422T004727
CREATED:20260420T131009Z
LAST-MODIFIED:20260420T131009Z
UID:155025-1792454400-1792540799@holyshelter.com
SUMMARY:Saint Challita
DESCRIPTION:Feast Day
URL:https://holyshelter.com/event/saint-challita/
CATEGORIES:Feast Days
END:VEVENT
BEGIN:VEVENT
DTSTART;VALUE=DATE:20261026
DTEND;VALUE=DATE:20261027
DTSTAMP:20260422T004727
CREATED:20260420T121920Z
LAST-MODIFIED:20260420T124337Z
UID:154993-1792972800-1793059199@holyshelter.com
SUMMARY:Saint Dimitrios
DESCRIPTION:Feast Day
URL:https://holyshelter.com/event/saint-dimitrios/
CATEGORIES:Feast Days
END:VEVENT
END:VCALENDAR