BEGIN:VCALENDAR
VERSION:2.0
PRODID:-//Holyshelter - ECPv6.15.20//NONSGML v1.0//EN
CALSCALE:GREGORIAN
METHOD:PUBLISH
X-WR-CALNAME:Holyshelter
X-ORIGINAL-URL:https://holyshelter.com
X-WR-CALDESC:Events for Holyshelter
REFRESH-INTERVAL;VALUE=DURATION:PT1H
X-Robots-Tag:noindex
X-PUBLISHED-TTL:PT1H
BEGIN:VTIMEZONE
TZID:Europe/Helsinki
BEGIN:DAYLIGHT
TZOFFSETFROM:+0200
TZOFFSETTO:+0300
TZNAME:EEST
DTSTART:20250330T010000
END:DAYLIGHT
BEGIN:STANDARD
TZOFFSETFROM:+0300
TZOFFSETTO:+0200
TZNAME:EET
DTSTART:20251026T010000
END:STANDARD
BEGIN:DAYLIGHT
TZOFFSETFROM:+0200
TZOFFSETTO:+0300
TZNAME:EEST
DTSTART:20260329T010000
END:DAYLIGHT
BEGIN:STANDARD
TZOFFSETFROM:+0300
TZOFFSETTO:+0200
TZNAME:EET
DTSTART:20261025T010000
END:STANDARD
BEGIN:DAYLIGHT
TZOFFSETFROM:+0200
TZOFFSETTO:+0300
TZNAME:EEST
DTSTART:20270328T010000
END:DAYLIGHT
BEGIN:STANDARD
TZOFFSETFROM:+0300
TZOFFSETTO:+0200
TZNAME:EET
DTSTART:20271031T010000
END:STANDARD
END:VTIMEZONE
BEGIN:VEVENT
DTSTART;VALUE=DATE:20260901
DTEND;VALUE=DATE:20260902
DTSTAMP:20260421T231226
CREATED:20260420T124759Z
LAST-MODIFIED:20260420T130334Z
UID:154997-1788220800-1788307199@holyshelter.com
SUMMARY:Saint Simon
DESCRIPTION:Feast Day
URL:https://holyshelter.com/event/saint-simon/
CATEGORIES:Feast Days
END:VEVENT
BEGIN:VEVENT
DTSTART;VALUE=DATE:20260901
DTEND;VALUE=DATE:20260902
DTSTAMP:20260421T231226
CREATED:20260420T130229Z
LAST-MODIFIED:20260420T130229Z
UID:155017-1788220800-1788307199@holyshelter.com
SUMMARY:Saint Jacob
DESCRIPTION:Feast Day
URL:https://holyshelter.com/event/saint-jacob/
CATEGORIES:Feast Days
END:VEVENT
BEGIN:VEVENT
DTSTART;VALUE=DATE:20260902
DTEND;VALUE=DATE:20260903
DTSTAMP:20260421T231226
CREATED:20260420T124649Z
LAST-MODIFIED:20260420T124649Z
UID:154995-1788307200-1788393599@holyshelter.com
SUMMARY:Saint Mema
DESCRIPTION:Feast Day
URL:https://holyshelter.com/event/saint-mema/
CATEGORIES:Feast Days
END:VEVENT
BEGIN:VEVENT
DTSTART;VALUE=DATE:20260906
DTEND;VALUE=DATE:20260907
DTSTAMP:20260421T231226
CREATED:20260420T125806Z
LAST-MODIFIED:20260420T125806Z
UID:155011-1788652800-1788739199@holyshelter.com
SUMMARY:Miracle of Archangel Michael
DESCRIPTION:Feast Day
URL:https://holyshelter.com/event/miracle-of-archangel-michael/
CATEGORIES:Feast Days
END:VEVENT
BEGIN:VEVENT
DTSTART;VALUE=DATE:20260908
DTEND;VALUE=DATE:20260909
DTSTAMP:20260421T231226
CREATED:20260420T131121Z
LAST-MODIFIED:20260420T131121Z
UID:155027-1788825600-1788911999@holyshelter.com
SUMMARY:Saint Mary’s Birth
DESCRIPTION:Feast Day
URL:https://holyshelter.com/event/saint-marys-birth/
CATEGORIES:Feast Days
END:VEVENT
BEGIN:VEVENT
DTSTART;VALUE=DATE:20260914
DTEND;VALUE=DATE:20260915
DTSTAMP:20260421T231226
CREATED:20260420T133043Z
LAST-MODIFIED:20260420T133043Z
UID:155051-1789344000-1789430399@holyshelter.com
SUMMARY:The Exaltation of the Holy Cross
DESCRIPTION:Feast Day
URL:https://holyshelter.com/event/the-exaltation-of-the-holy-cross/
CATEGORIES:Feast Days
END:VEVENT
BEGIN:VEVENT
DTSTART;VALUE=DATE:20260924
DTEND;VALUE=DATE:20260925
DTSTAMP:20260421T231226
CREATED:20260420T130635Z
LAST-MODIFIED:20260420T130635Z
UID:155021-1790208000-1790294399@holyshelter.com
SUMMARY:Saint Takla
DESCRIPTION:Feast Day
URL:https://holyshelter.com/event/saint-takla/
CATEGORIES:Feast Days
END:VEVENT
END:VCALENDAR