BEGIN:VCALENDAR
VERSION:2.0
PRODID:-//Holyshelter - ECPv6.15.20//NONSGML v1.0//EN
CALSCALE:GREGORIAN
METHOD:PUBLISH
X-WR-CALNAME:Holyshelter
X-ORIGINAL-URL:https://holyshelter.com
X-WR-CALDESC:Events for Holyshelter
REFRESH-INTERVAL;VALUE=DURATION:PT1H
X-Robots-Tag:noindex
X-PUBLISHED-TTL:PT1H
BEGIN:VTIMEZONE
TZID:Europe/Helsinki
BEGIN:DAYLIGHT
TZOFFSETFROM:+0200
TZOFFSETTO:+0300
TZNAME:EEST
DTSTART:20250330T010000
END:DAYLIGHT
BEGIN:STANDARD
TZOFFSETFROM:+0300
TZOFFSETTO:+0200
TZNAME:EET
DTSTART:20251026T010000
END:STANDARD
BEGIN:DAYLIGHT
TZOFFSETFROM:+0200
TZOFFSETTO:+0300
TZNAME:EEST
DTSTART:20260329T010000
END:DAYLIGHT
BEGIN:STANDARD
TZOFFSETFROM:+0300
TZOFFSETTO:+0200
TZNAME:EET
DTSTART:20261025T010000
END:STANDARD
BEGIN:DAYLIGHT
TZOFFSETFROM:+0200
TZOFFSETTO:+0300
TZNAME:EEST
DTSTART:20270328T010000
END:DAYLIGHT
BEGIN:STANDARD
TZOFFSETFROM:+0300
TZOFFSETTO:+0200
TZNAME:EET
DTSTART:20271031T010000
END:STANDARD
END:VTIMEZONE
BEGIN:VEVENT
DTSTART;VALUE=DATE:20260806
DTEND;VALUE=DATE:20260807
DTSTAMP:20260421T214518
CREATED:20260420T133146Z
LAST-MODIFIED:20260420T133146Z
UID:155053-1785974400-1786060799@holyshelter.com
SUMMARY:The Holy Transfiguration of Our God
DESCRIPTION:Feast Day
URL:https://holyshelter.com/event/the-holy-transfiguration-of-our-god/
CATEGORIES:Feast Days
END:VEVENT
BEGIN:VEVENT
DTSTART;VALUE=DATE:20260816
DTEND;VALUE=DATE:20260817
DTSTAMP:20260421T214518
CREATED:20260420T131930Z
LAST-MODIFIED:20260420T131930Z
UID:155037-1786838400-1786924799@holyshelter.com
SUMMARY:Saint Roukoz
DESCRIPTION:Feast Day
URL:https://holyshelter.com/event/saint-roukoz/
CATEGORIES:Feast Days
END:VEVENT
BEGIN:VEVENT
DTSTART;VALUE=DATE:20260828
DTEND;VALUE=DATE:20260829
DTSTAMP:20260421T214518
CREATED:20260420T132644Z
LAST-MODIFIED:20260420T132644Z
UID:155045-1787875200-1787961599@holyshelter.com
SUMMARY:Saint Moussa
DESCRIPTION:Feast Day
URL:https://holyshelter.com/event/saint-moussa/
CATEGORIES:Feast Days
END:VEVENT
BEGIN:VEVENT
DTSTART;VALUE=DATE:20260829
DTEND;VALUE=DATE:20260830
DTSTAMP:20260421T214518
CREATED:20260420T131251Z
LAST-MODIFIED:20260420T131251Z
UID:155029-1787961600-1788047999@holyshelter.com
SUMMARY:Saint John The Baptist
DESCRIPTION:Feast Day
URL:https://holyshelter.com/event/saint-john-the-baptist/
CATEGORIES:Feast Days
END:VEVENT
BEGIN:VEVENT
DTSTART;VALUE=DATE:20260831
DTEND;VALUE=DATE:20260901
DTSTAMP:20260421T214518
CREATED:20260420T130142Z
LAST-MODIFIED:20260420T130142Z
UID:155015-1788134400-1788220799@holyshelter.com
SUMMARY:Saint Abda
DESCRIPTION:Feats Day
URL:https://holyshelter.com/event/saint-abda/
CATEGORIES:Feast Days
END:VEVENT
END:VCALENDAR